BEGIN:VCALENDAR
VERSION:2.0
PRODID:-//Bibliotecas de Lisboa - ECPv5.3.1.1//NONSGML v1.0//EN
CALSCALE:GREGORIAN
METHOD:PUBLISH
X-WR-CALNAME:Bibliotecas de Lisboa
X-ORIGINAL-URL:https://blx.cm-lisboa.pt
X-WR-CALDESC:Events for Bibliotecas de Lisboa
BEGIN:VTIMEZONE
TZID:Europe/Lisbon
BEGIN:DAYLIGHT
TZOFFSETFROM:+0000
TZOFFSETTO:+0100
TZNAME:WEST
DTSTART:20240331T010000
END:DAYLIGHT
BEGIN:STANDARD
TZOFFSETFROM:+0100
TZOFFSETTO:+0000
TZNAME:WET
DTSTART:20241027T010000
END:STANDARD
END:VTIMEZONE
BEGIN:VEVENT
DTSTART;TZID=Europe/Lisbon:20240507T100000
DTEND;TZID=Europe/Lisbon:20240521T180000
DTSTAMP:20260425T213527
CREATED:20240502T171104Z
LAST-MODIFIED:20240502T171910Z
UID:27235-1715076000-1716314400@blx.cm-lisboa.pt
SUMMARY:Pensado para ser dito: discursos e manifestos
DESCRIPTION:Mostra bibliográfica de discursos e manifestos. \n  \nO destaque de coleção estará patente\, no horário de funcionamento da biblioteca\, de 7 a 21 de maio\, na Biblioteca dos Coruchéus. \nEntrada livre. \n  \nNo decorrer desta atividade\, são captadas imagens e som para divulgação pela CML\, entidade parceira ou promotora\, nos respetivos meios de comunicação\, como redes sociais e sites institucionais.
URL:https://blx.cm-lisboa.pt/evento/pensado-para-ser-dito-discursos-e-manifestos/
LOCATION:Biblioteca dos Coruchéus\, Rua Alberto Oliveira\, Lisboa\, 1700-019\, Portugal
CATEGORIES:Biblioteca Coruchéus
END:VEVENT
END:VCALENDAR