BEGIN:VCALENDAR
VERSION:2.0
PRODID:-//Bibliotecas de Lisboa - ECPv5.3.1.1//NONSGML v1.0//EN
CALSCALE:GREGORIAN
METHOD:PUBLISH
X-WR-CALNAME:Bibliotecas de Lisboa
X-ORIGINAL-URL:https://blx.cm-lisboa.pt
X-WR-CALDESC:Events for Bibliotecas de Lisboa
BEGIN:VTIMEZONE
TZID:Europe/Lisbon
BEGIN:DAYLIGHT
TZOFFSETFROM:+0000
TZOFFSETTO:+0100
TZNAME:WEST
DTSTART:20260329T010000
END:DAYLIGHT
BEGIN:STANDARD
TZOFFSETFROM:+0100
TZOFFSETTO:+0000
TZNAME:WET
DTSTART:20261025T010000
END:STANDARD
END:VTIMEZONE
BEGIN:VEVENT
DTSTART;TZID=Europe/Lisbon:20260305T170000
DTEND;TZID=Europe/Lisbon:20260305T183000
DTSTAMP:20260424T094923
CREATED:20260213T122803Z
LAST-MODIFIED:20260213T122803Z
UID:41437-1772730000-1772735400@blx.cm-lisboa.pt
SUMMARY:Qigong para equilíbrio e bem-estar
DESCRIPTION:Ciclo de quatro oficinas complementares e independentes. \nNesta segunda sessão\, promove-se a exploração de técnicas de gestão da postura\, enraizamento e consciência corporal numa introdução ao Qigong em pé. \n  \n\nDinamizado por: João Lopes\nPara maiores de 16 anos\nEntrada gratuita e com marcação prévia\nContacto para marcação: umteatroemcadabairro.cjardimestrela@cm-lisboa.pt\n\n  \nDia 5 março\, 17h00\, na Casa do Jardim da Estrela. \n  \nNo decorrer desta atividade\, são captadas imagens e som para divulgação pela CML\, entidade parceira ou promotora\, nos respetivos meios de comunicação\, como redes sociais e sites institucionais. Uma vez disponibilizados online\, os dados pessoais são suscetíveis de serem reutilizados e difundidos por terceiros.
URL:https://blx.cm-lisboa.pt/evento/qigong-para-equilibrio-e-bem-estar/
LOCATION:Casa do Jardim da Estrela
CATEGORIES:Casa do Jardim da Estrela
END:VEVENT
END:VCALENDAR