BEGIN:VCALENDAR
VERSION:2.0
PRODID:-//Bibliotecas de Lisboa - ECPv5.3.1.1//NONSGML v1.0//EN
CALSCALE:GREGORIAN
METHOD:PUBLISH
X-WR-CALNAME:Bibliotecas de Lisboa
X-ORIGINAL-URL:https://blx.cm-lisboa.pt
X-WR-CALDESC:Events for Bibliotecas de Lisboa
BEGIN:VTIMEZONE
TZID:Europe/Lisbon
BEGIN:DAYLIGHT
TZOFFSETFROM:+0000
TZOFFSETTO:+0100
TZNAME:WEST
DTSTART:20250330T010000
END:DAYLIGHT
BEGIN:STANDARD
TZOFFSETFROM:+0100
TZOFFSETTO:+0000
TZNAME:WET
DTSTART:20251026T010000
END:STANDARD
END:VTIMEZONE
BEGIN:VEVENT
DTSTART;TZID=Europe/Lisbon:20251024T183000
DTEND;TZID=Europe/Lisbon:20251024T200000
DTSTAMP:20260424T231039
CREATED:20251016T110251Z
LAST-MODIFIED:20251016T111305Z
UID:39132-1761330600-1761336000@blx.cm-lisboa.pt
SUMMARY:Ribatejo e Estremadura
DESCRIPTION:Apresentação do livro ‘Ribatejo e Estremadura : imagens do ambiente natural e humano na literatura de ficção‘. \nTerritórios que o eixo natural e paisagístico do rio Tejo simultaneamente une e separa\, são um fértil exemplo do dom inspirador de algumas regiões para nutrir o imaginário dos escritores. \nNo poente alaranjado da pluriforme Estremadura\, nas terras da Borda d’Água e charnecas desse Ribatejo que é fronteira «entre a civilização da pedra» do Norte e «a civilização do barro» do Sul\, no alcance das marés\, nos episódios cíclicos de cheias encontraram muitos autores da Língua Portuguesa motivo e cenário da sua escrita memorialística\, ensaística\, mas sobretudo ficcional. \nAs investigadoras Ana Cristina Carvalho\, Natália Constâncio\, Maria da Graça Saraiva e Ana Lavrador-Silva reuniram um leque de investigadores que analisaram 34 obras\, na sua maioria de ficção\, de 18 escritores da Literatura Portuguesa. \n  \n\nApresentação Maria Mota Almeida (ESHTE)\nAtuação Coro do BPI – Maestro José Eugénio Vieira\n\n  \nDia 24 outubro\, 18h30\, na Biblioteca Palácio Galveias. \nEntrada livre. \n  \n[imagem gráfica elaborada pela entidade dinamizadora da iniciativa] \nNo decorrer desta atividade\, são captadas imagens e som para divulgação pela CML\, entidade parceira ou promotora\, nos respetivos meios de comunicação\, como redes sociais e sites institucionais.
URL:https://blx.cm-lisboa.pt/evento/ribatejo-e-estremadura/
LOCATION:Biblioteca Palácio Galveias\, Campo Pequeno\, Lisboa\, 1049-046\, Portugal
CATEGORIES:Biblioteca Palácio Galveias
ATTACH;FMTTYPE=image/jpeg:https://blx.cm-lisboa.pt/wp-content/uploads/2025/10/ribatejo_estremadura_galveias_qtrack.jpg
END:VEVENT
END:VCALENDAR