BEGIN:VCALENDAR
VERSION:2.0
PRODID:-//Bibliotecas de Lisboa - ECPv5.3.1.1//NONSGML v1.0//EN
CALSCALE:GREGORIAN
METHOD:PUBLISH
X-WR-CALNAME:Bibliotecas de Lisboa
X-ORIGINAL-URL:https://blx.cm-lisboa.pt
X-WR-CALDESC:Events for Bibliotecas de Lisboa
BEGIN:VTIMEZONE
TZID:Europe/Lisbon
BEGIN:DAYLIGHT
TZOFFSETFROM:+0000
TZOFFSETTO:+0100
TZNAME:WEST
DTSTART:20260329T010000
END:DAYLIGHT
BEGIN:STANDARD
TZOFFSETFROM:+0100
TZOFFSETTO:+0000
TZNAME:WET
DTSTART:20261025T010000
END:STANDARD
END:VTIMEZONE
BEGIN:VEVENT
DTSTART;TZID=Europe/Lisbon:20260502T110000
DTEND;TZID=Europe/Lisbon:20260502T114500
DTSTAMP:20260423T041253
CREATED:20260422T141245Z
LAST-MODIFIED:20260422T142719Z
UID:42783-1777719600-1777722300@blx.cm-lisboa.pt
SUMMARY:Sábados em família - À descoberta da floresta
DESCRIPTION:O que há para descobrir na floresta? \nPequenas surpresas para pequenos ouvidos\, é o que a Biblioteca sugere no mês da Primavera. \nAtravés do despertar dos sentidos\, por entre as páginas dos livros\, começa a descoberta da floresta. \n  \n\nDinamizado por: Rute Teixeira (BLX)\nPara famílias com bebés dos 9 aos 36 meses\nEntrada gratuita e com marcação prévia\nContacto para marcação: bib.oribeiro.infantil@cm-lisboa.pt\n\n  \nDia  2 maio\, 11h00\, na Biblioteca Orlando Ribeiro. \n  \nCréditos da imagem: © pormenor da ilustração de Joana Maia no livro “A floresta”\, de Joana Barata e Gisela Canelhas \nNo decorrer desta atividade\, são captadas imagens e som para divulgação pela CML\, entidade parceira ou promotora\, nos respetivos meios de comunicação\, como redes sociais e sites institucionais. Uma vez disponibilizados online\, os dados pessoais são suscetíveis de serem reutilizados e difundidos por terceiros.
URL:https://blx.cm-lisboa.pt/evento/sabados-em-familia-a-descoberta-da-floresta/
LOCATION:Biblioteca Orlando Ribeiro\, Estrada de Telheiras\, 146\, Lisboa\, 1600-598\, Portugal
CATEGORIES:Biblioteca Orlando Ribeiro
ATTACH;FMTTYPE=image/jpeg:https://blx.cm-lisboa.pt/wp-content/uploads/2026/04/Maio02_HoraConto_DescobertaDaFloresta-site.jpg
END:VEVENT
END:VCALENDAR