BEGIN:VCALENDAR
VERSION:2.0
PRODID:-//Bibliotecas de Lisboa - ECPv5.3.1.1//NONSGML v1.0//EN
CALSCALE:GREGORIAN
METHOD:PUBLISH
X-WR-CALNAME:Bibliotecas de Lisboa
X-ORIGINAL-URL:https://blx.cm-lisboa.pt
X-WR-CALDESC:Events for Bibliotecas de Lisboa
BEGIN:VTIMEZONE
TZID:Europe/Lisbon
BEGIN:DAYLIGHT
TZOFFSETFROM:+0000
TZOFFSETTO:+0100
TZNAME:WEST
DTSTART:20260329T010000
END:DAYLIGHT
BEGIN:STANDARD
TZOFFSETFROM:+0100
TZOFFSETTO:+0000
TZNAME:WET
DTSTART:20261025T010000
END:STANDARD
END:VTIMEZONE
BEGIN:VEVENT
DTSTART;TZID=Europe/Lisbon:20260321T110000
DTEND;TZID=Europe/Lisbon:20260321T120000
DTSTAMP:20260423T235821
CREATED:20260225T120719Z
LAST-MODIFIED:20260225T120833Z
UID:41680-1774090800-1774094400@blx.cm-lisboa.pt
SUMMARY:Sessão confortável de Histórias
DESCRIPTION:Estas sessões pretendem ir ao encontro de todas as famílias\, incluindo famílias com crianças no espectro do autismo\, com deficiência intelectual\, com défice de atenção\, com síndrome de Down\, com deficiências sensoriais\, sociais ou de comunicação. \nCom jogos de palavras\, lengalengas\, trava línguas\, ritmo e movimento\, que apelam aos diferentes sentidos. \n  \n\nPara famílias com crianças entre os 5 e os 10 anos.\nPromovida por: Serviço de Inclusão\nDinamização: As histórias são para quem passa (Joana Marto e Alexandra Lobato)\nEntrada gratuita e com marcação\nMarcações através do email: drb.inclusao@cm-lisboa.pt\n\n  \n  \nDia 21 março\, pelas 11h00\, na Biblioteca Orlando Ribeiro. \n  \nNo decorrer desta atividade\, são captadas imagens e som para divulgação pela CML\, entidade parceira ou promotora\, nos respetivos meios de comunicação\, como redes sociais e sites institucionais. Uma vez disponibilizados online\, os dados pessoais são suscetíveis de serem reutilizados e difundidos por terceiros.
URL:https://blx.cm-lisboa.pt/evento/sessao-confortavel-de-historias-12/
LOCATION:Biblioteca Orlando Ribeiro\, Estrada de Telheiras\, 146\, Lisboa\, 1600-598\, Portugal
CATEGORIES:Biblioteca Orlando Ribeiro
ATTACH;FMTTYPE=image/jpeg:https://blx.cm-lisboa.pt/wp-content/uploads/2025/11/sessao_confortavel_site.jpg
END:VEVENT
END:VCALENDAR