BEGIN:VCALENDAR
VERSION:2.0
PRODID:-//Bibliotecas de Lisboa - ECPv5.3.1.1//NONSGML v1.0//EN
CALSCALE:GREGORIAN
METHOD:PUBLISH
X-WR-CALNAME:Bibliotecas de Lisboa
X-ORIGINAL-URL:https://blx.cm-lisboa.pt
X-WR-CALDESC:Events for Bibliotecas de Lisboa
BEGIN:VTIMEZONE
TZID:Europe/Lisbon
BEGIN:DAYLIGHT
TZOFFSETFROM:+0000
TZOFFSETTO:+0100
TZNAME:WEST
DTSTART:20240331T010000
END:DAYLIGHT
BEGIN:STANDARD
TZOFFSETFROM:+0100
TZOFFSETTO:+0000
TZNAME:WET
DTSTART:20241027T010000
END:STANDARD
END:VTIMEZONE
BEGIN:VEVENT
DTSTART;TZID=Europe/Lisbon:20241026T110000
DTEND;TZID=Europe/Lisbon:20241026T114500
DTSTAMP:20260421T033343
CREATED:20241002T102513Z
LAST-MODIFIED:20241024T113430Z
UID:30513-1729940400-1729943100@blx.cm-lisboa.pt
SUMMARY:Sessão confortável de Histórias
DESCRIPTION:Histórias descontraídas numa sessão confortável onde contamos histórias\, lengalengas\, provérbios\, jogos de palavras e ritmo\, de forma multissensorial. \n  \n\nPara famílias com crianças de idades compreendidas entre os 5 e os 10 anos.\nPromovida por: Serviço de Inclusão\nDinamização: As histórias são para quem passa (Joana Marto e Alexandra Lobato)\nEntrada gratuita e com marcação.\nMarcações através do email: bib.oribeiro.infantil@cm-lisboa.pt\n\n  \nA sessão terá lugar no dia 26 de outubro\, pelas 11h00\, na Biblioteca Orlando Ribeiro. \n  \nNo decorrer desta atividade\, são captadas imagens e som para divulgação pela CML\, entidade parceira ou promotora\, nos respetivos meios de comunicação\, como redes sociais e sites institucionais.
URL:https://blx.cm-lisboa.pt/evento/sessao-confortavel-de-historias-2/
LOCATION:Biblioteca Orlando Ribeiro\, Estrada de Telheiras\, 146\, Lisboa\, 1600-598\, Portugal
CATEGORIES:Biblioteca Orlando Ribeiro
ATTACH;FMTTYPE=image/jpeg:https://blx.cm-lisboa.pt/wp-content/uploads/2024/10/sessao-confortavel_26OUT_site-e1729693897980.jpg
END:VEVENT
END:VCALENDAR