BEGIN:VCALENDAR
VERSION:2.0
PRODID:-//Bibliotecas de Lisboa - ECPv5.3.1.1//NONSGML v1.0//EN
CALSCALE:GREGORIAN
METHOD:PUBLISH
X-WR-CALNAME:Bibliotecas de Lisboa
X-ORIGINAL-URL:https://blx.cm-lisboa.pt
X-WR-CALDESC:Events for Bibliotecas de Lisboa
BEGIN:VTIMEZONE
TZID:Europe/Lisbon
BEGIN:DAYLIGHT
TZOFFSETFROM:+0000
TZOFFSETTO:+0100
TZNAME:WEST
DTSTART:20260329T010000
END:DAYLIGHT
BEGIN:STANDARD
TZOFFSETFROM:+0100
TZOFFSETTO:+0000
TZNAME:WET
DTSTART:20261025T010000
END:STANDARD
END:VTIMEZONE
BEGIN:VEVENT
DTSTART;TZID=Europe/Lisbon:20260505T150000
DTEND;TZID=Europe/Lisbon:20260505T170000
DTSTAMP:20260424T042136
CREATED:20260423T164948Z
LAST-MODIFIED:20260423T165727Z
UID:42870-1777993200-1778000400@blx.cm-lisboa.pt
SUMMARY:Solidão : voltar a sentir-se acompanhado
DESCRIPTION:Nesta oficina os participantes são convidados a experimentar formas simples e práticas de cuidar das suas emoções\, promovendo mais calma\, equilíbrio e presença no seu dia-a-dia. \n  \n\nDinamização: Sandra Estima\n\n  \nDia 5 maio\, 15h00\, na Biblioteca dos Coruchéus. \nEntrada livre. \n  \n  \nNo decorrer desta atividade\, são captadas imagens e som para divulgação pela CML\, entidade parceira ou promotora\, nos respetivos meios de comunicação\, como redes sociais e sites institucionais. Uma vez disponibilizados online\, os dados pessoais são suscetíveis de serem reutilizados e difundidos por terceiros.
URL:https://blx.cm-lisboa.pt/evento/solidao-voltar-a-sentir-se-acompanhado/
LOCATION:Biblioteca dos Coruchéus\, Rua Alberto Oliveira\, Lisboa\, 1700-019\, Portugal
CATEGORIES:Biblioteca Coruchéus
END:VEVENT
END:VCALENDAR