BEGIN:VCALENDAR
VERSION:2.0
PRODID:-//Bibliotecas de Lisboa - ECPv5.3.1.1//NONSGML v1.0//EN
CALSCALE:GREGORIAN
METHOD:PUBLISH
X-WR-CALNAME:Bibliotecas de Lisboa
X-ORIGINAL-URL:https://blx.cm-lisboa.pt
X-WR-CALDESC:Events for Bibliotecas de Lisboa
BEGIN:VTIMEZONE
TZID:Europe/Lisbon
BEGIN:DAYLIGHT
TZOFFSETFROM:+0000
TZOFFSETTO:+0100
TZNAME:WEST
DTSTART:20260329T010000
END:DAYLIGHT
BEGIN:STANDARD
TZOFFSETFROM:+0100
TZOFFSETTO:+0000
TZNAME:WET
DTSTART:20261025T010000
END:STANDARD
END:VTIMEZONE
BEGIN:VEVENT
DTSTART;TZID=Europe/Lisbon:20260307T110000
DTEND;TZID=Europe/Lisbon:20260307T120000
DTSTAMP:20260426T042854
CREATED:20260213T180211Z
LAST-MODIFIED:20260218T125504Z
UID:41471-1772881200-1772884800@blx.cm-lisboa.pt
SUMMARY:Surpresas! História para bebés
DESCRIPTION:Na dobra do papel\, as surpresas aparecem. \nNa página a seguir\, ainda há mais para descobrir\, entre livros\, canções e muitas ilustrações. \nÉ mais uma hora do conto para bebés dos 9 aos 36 meses e famílias. Às 11h na biblioteca mais bonita! \n  \n\nDinamizado por: Rute Teixeira (BLX)\nPúblico-alvo: Para todas as famílias com bebés dos 9 aos 36 meses\nEntrada gratuita e mediante marcação prévia\nContacto para marcação: bib.oribeiro.infantil@cm-lisboa.pt\n\n  \nDia 7 março\, 11h00\, na Biblioteca Orlando Ribeiro. \n  \nCréditos da imagem: © Ilustrações de Sue Downing no livro ‘Grande\, pequeno… elefante!’\, Yoyo Books \nNo decorrer desta atividade\, são captadas imagens e som para divulgação pela CML\, entidade parceira ou promotora\, nos respetivos meios de comunicação\, como redes sociais e sites institucionais. Uma vez disponibilizados online\, os dados pessoais são suscetíveis de serem reutilizados e difundidos por terceiros.
URL:https://blx.cm-lisboa.pt/evento/surpresas-historia-para-bebes/
LOCATION:Biblioteca Orlando Ribeiro\, Estrada de Telheiras\, 146\, Lisboa\, 1600-598\, Portugal
CATEGORIES:Biblioteca Orlando Ribeiro
ATTACH;FMTTYPE=image/jpeg:https://blx.cm-lisboa.pt/wp-content/uploads/2026/02/HoraConto_Surpresas-site.jpg
END:VEVENT
END:VCALENDAR