BEGIN:VCALENDAR
VERSION:2.0
PRODID:-//Bibliotecas de Lisboa - ECPv5.3.1.1//NONSGML v1.0//EN
CALSCALE:GREGORIAN
METHOD:PUBLISH
X-WR-CALNAME:Bibliotecas de Lisboa
X-ORIGINAL-URL:https://blx.cm-lisboa.pt
X-WR-CALDESC:Events for Bibliotecas de Lisboa
BEGIN:VTIMEZONE
TZID:Europe/Lisbon
BEGIN:DAYLIGHT
TZOFFSETFROM:+0000
TZOFFSETTO:+0100
TZNAME:WEST
DTSTART:20250330T010000
END:DAYLIGHT
BEGIN:STANDARD
TZOFFSETFROM:+0100
TZOFFSETTO:+0000
TZNAME:WET
DTSTART:20251026T010000
END:STANDARD
END:VTIMEZONE
BEGIN:VEVENT
DTSTART;TZID=Europe/Lisbon:20251122T110000
DTEND;TZID=Europe/Lisbon:20251122T123000
DTSTAMP:20260423T163531
CREATED:20251113T183438Z
LAST-MODIFIED:20251113T183706Z
UID:39716-1763809200-1763814600@blx.cm-lisboa.pt
SUMMARY:Tenho 12 anos e muita coisa para dizer
DESCRIPTION:Apresentação do livro ‘Tenho 12 anos e muita coisa para dizer’\, de Maria Francisca. \n  \nEntre perguntas sem resposta e respostas que ninguém pediu\, entre o riso fácil e a tempestade que às vezes mora no peito\, a Maria Francisca escreve como quem abre uma janela para o seu mundo. \nAos 12 anos\, transforma dúvidas em versos\, memórias em imagens e sentimentos em palavras que ficam connosco muito depois de fechar o livro. \nEste não é apenas um conjunto de poemas – é um convite para ver a vida com a curiosidade de quem sabe que ainda tem muito para descobrir… e com a coragem de dizer o que pensa\, mesmo quando não é o que os outros querem ouvir. \n  \nDia 22 novembro\, 11h00\, na Biblioteca de Alcântara – José Dias Coelho. \nEntrada livre. \n  \nNo decorrer desta atividade\, são captadas imagens e som para divulgação pela CML\, entidade parceira ou promotora\, nos respetivos meios de comunicação\, como redes sociais e sites institucionais.
URL:https://blx.cm-lisboa.pt/evento/tenho-12-anos-e-muita-coisa-para-dizer/
LOCATION:Biblioteca de Alcântara – José Dias Coelho\, Rua José Dias Coelho\, 27-29\, Lisboa\, 1300-327\, Portugal
CATEGORIES:Biblioteca Alcântara - José Dias Coelho
END:VEVENT
END:VCALENDAR