BEGIN:VCALENDAR
VERSION:2.0
PRODID:-//Bibliotecas de Lisboa - ECPv5.3.1.1//NONSGML v1.0//EN
CALSCALE:GREGORIAN
METHOD:PUBLISH
X-WR-CALNAME:Bibliotecas de Lisboa
X-ORIGINAL-URL:https://blx.cm-lisboa.pt
X-WR-CALDESC:Events for Bibliotecas de Lisboa
BEGIN:VTIMEZONE
TZID:Europe/Lisbon
BEGIN:DAYLIGHT
TZOFFSETFROM:+0000
TZOFFSETTO:+0100
TZNAME:WEST
DTSTART:20240331T010000
END:DAYLIGHT
BEGIN:STANDARD
TZOFFSETFROM:+0100
TZOFFSETTO:+0000
TZNAME:WET
DTSTART:20241027T010000
END:STANDARD
END:VTIMEZONE
BEGIN:VEVENT
DTSTART;TZID=Europe/Lisbon:20241005T200000
DTEND;TZID=Europe/Lisbon:20241005T230000
DTSTAMP:20260425T221127
CREATED:20240926T144832Z
LAST-MODIFIED:20240926T144832Z
UID:30403-1728158400-1728169200@blx.cm-lisboa.pt
SUMMARY:Todo Mundo Slam | Grande final
DESCRIPTION:Grande final do Todo Mundo Slam 2024. \nA final de Todo o Mundo Slam\, conta com momentos de teatro\, performance e outras surpresas para assinalar o 4º aniversário da Biblioteca de Alcântara – José Dias Coelho. \nNesta final todas as pessoas apuradas\, desde o mês de abril deste ano\, estarão juntas para saber quem será a pessoa vencedora desta edição. \nLembramos que o “Todo Mundo Slam” é um concurso de poesia falada em que o público é soberano. “Ao contrário da maioria dos eventos de poesia\, o poetry slam é caótico\, barulhento\, enérgico\, algo entre um espetáculo e uma tertúlia com os seus melhores amigos\, mas numa biblioteca viva.” \nDinamizado por: Maria Giulia Pinheiro\, Marina Campanatti e Lucas França \n  \n\nA sessão realiza-se no dia 5 de outubro\, com início às 20h00\, na Biblioteca de Alcântara – José Dias Coelho.\n\nEntrada livre.\n\n  \nAtividade realizada no âmbito da comemoração do 4º aniversário da Biblioteca de Alcântara – José Dias Coelho. \n  \nNo decorrer desta atividade\, são captadas imagens e som para divulgação pela CML\, entidade parceira ou promotora\, nos respetivos meios de comunicação\, como redes sociais e sites institucionais.
URL:https://blx.cm-lisboa.pt/evento/todo-mundo-slam-grande-final/
LOCATION:Biblioteca de Alcântara – José Dias Coelho\, Rua José Dias Coelho\, 27-29\, Lisboa\, 1300-327\, Portugal
CATEGORIES:Biblioteca Alcântara - José Dias Coelho
ATTACH;FMTTYPE=image/jpeg:https://blx.cm-lisboa.pt/wp-content/uploads/2024/07/Slam_BA_site.jpg
END:VEVENT
END:VCALENDAR