BEGIN:VCALENDAR
VERSION:2.0
PRODID:-//Bibliotecas de Lisboa - ECPv5.3.1.1//NONSGML v1.0//EN
CALSCALE:GREGORIAN
METHOD:PUBLISH
X-WR-CALNAME:Bibliotecas de Lisboa
X-ORIGINAL-URL:https://blx.cm-lisboa.pt
X-WR-CALDESC:Events for Bibliotecas de Lisboa
BEGIN:VTIMEZONE
TZID:Europe/Lisbon
BEGIN:DAYLIGHT
TZOFFSETFROM:+0000
TZOFFSETTO:+0100
TZNAME:WEST
DTSTART:20250330T010000
END:DAYLIGHT
BEGIN:STANDARD
TZOFFSETFROM:+0100
TZOFFSETTO:+0000
TZNAME:WET
DTSTART:20251026T010000
END:STANDARD
END:VTIMEZONE
BEGIN:VEVENT
DTSTART;TZID=Europe/Lisbon:20250701T150000
DTEND;TZID=Europe/Lisbon:20250705T163000
DTSTAMP:20260426T033344
CREATED:20250528T111619Z
LAST-MODIFIED:20250622T145431Z
UID:36738-1751382000-1751733000@blx.cm-lisboa.pt
SUMMARY:1.º Torneio de Xadrez José Dias Coelho
DESCRIPTION:A Biblioteca de Alcântara – José Dias Coelho\, em colaboração com o Grupo de Xadrez Alekhine\, organiza o 1.º Torneio de Xadrez José Dias Coelho\, que decorre ao longo de cinco dias\, na Biblioteca de Alcântara – José Dias Coelho. \n  \nModelo de organização: \n\nDisputado em sistema suíço de 5 sessões com o número máximo de 20 jogadores e jogar-se-á segundo as regras da FIDE e os regulamentos da Federação Portuguesa de Xadrez\, com o ritmo de 1h+30s por lance para cada jogador\nAverbada falta de comparência aos jogadores que se apresentem com 30 ou mais minutos de atraso em relação ao horário da sessão e será eliminado qualquer jogador que faltar a duas sessões\nUsar-se-á o programa ‘Swiss-Manager’ para os emparceiramentos e desempates sendo o primeiro emparceiramento efetuado cerca das 18h30 do dia 30 de Junho e publicado no site chessresults.com\nCasos omissos no presente regulamento serão resolvidos pela Direção da Prova\nPrémios: Medalhas e ofertas para os três primeiros classificados\n\n  \nOutras informações: \n\nAberto a jogadores federados e não federados\, de todas as idades\nInscrições gratuitas\nContacto para inscrições: no local da prova (Biblioteca de Alcântara – José Dias Coelho) ou através dos endereços eletrónicos: bib.alcantara@cm-lisboa.pt ou gxalekhine@gmail.com\nInscrições até às 18h do dia 30 de Junho de 2025\nDiretor do Torneio: Pedro Peres\nÁrbitro: António Garcia\n\n  \nSessões do Torneio\, sempre às 15h00: \n\n1ª Sessão 01/07/2025 (terça-feira)\n2ª Sessão 02/07/2025 (quarta-feira)\n3ª Sessão 03/07/2025 (quinta-feira)\n4ª Sessão 04/07/2025 (sexta-feira)\n5ª Sessão 05/07/2025 (sábado)\n\n  \nAs sessões terão lugar na Biblioteca de Alcântara – José Dias Coelho. \nNo decorrer desta atividade\, são captadas imagens e som para divulgação pela CML\, entidade parceira ou promotora\, nos respetivos meios de comunicação\, como redes sociais e sites institucionais.
URL:https://blx.cm-lisboa.pt/evento/torneio-de-xadrez-1a-edicao/
LOCATION:Biblioteca de Alcântara – José Dias Coelho\, Rua José Dias Coelho\, 27-29\, Lisboa\, 1300-327\, Portugal
CATEGORIES:Biblioteca Alcântara - José Dias Coelho,Destaques
ATTACH;FMTTYPE=image/jpeg:https://blx.cm-lisboa.pt/wp-content/uploads/2025/05/xadrez_BA-JDC_site.jpg
END:VEVENT
END:VCALENDAR