BEGIN:VCALENDAR
VERSION:2.0
PRODID:-//Bibliotecas de Lisboa - ECPv5.3.1.1//NONSGML v1.0//EN
CALSCALE:GREGORIAN
METHOD:PUBLISH
X-WR-CALNAME:Bibliotecas de Lisboa
X-ORIGINAL-URL:https://blx.cm-lisboa.pt
X-WR-CALDESC:Events for Bibliotecas de Lisboa
BEGIN:VTIMEZONE
TZID:Europe/Lisbon
BEGIN:DAYLIGHT
TZOFFSETFROM:+0000
TZOFFSETTO:+0100
TZNAME:WEST
DTSTART:20260329T010000
END:DAYLIGHT
BEGIN:STANDARD
TZOFFSETFROM:+0100
TZOFFSETTO:+0000
TZNAME:WET
DTSTART:20261025T010000
END:STANDARD
END:VTIMEZONE
BEGIN:VEVENT
DTSTART;TZID=Europe/Lisbon:20260331T100000
DTEND;TZID=Europe/Lisbon:20260407T180000
DTSTAMP:20260423T160534
CREATED:20260306T191610Z
LAST-MODIFIED:20260306T191610Z
UID:41899-1774951200-1775584800@blx.cm-lisboa.pt
SUMMARY:Troca Letras
DESCRIPTION:Atividade mensal\, que se prolonga durante uma semana. \nTraga um livro e leve outro à sua escolha. \n  \n\nDinamizado por: Ana Maria Carvalho\n\n  \nA iniciativa terá lugar\, no horário de funcionamento\, de 31 março a 7 abril\, na Biblioteca Orlando Ribeiro. \nEntrada livre. \n  \nCréditos da imagem: © Carla Manso \nNo decorrer desta atividade\, são captadas imagens e som para divulgação pela CML\, entidade parceira ou promotora\, nos respetivos meios de comunicação\, como redes sociais e sites institucionais. Uma vez disponibilizados online\, os dados pessoais são suscetíveis de serem reutilizados e difundidos por terceiros.
URL:https://blx.cm-lisboa.pt/evento/troca-letras-16/
LOCATION:Biblioteca Orlando Ribeiro\, Estrada de Telheiras\, 146\, Lisboa\, 1600-598\, Portugal
CATEGORIES:Biblioteca Orlando Ribeiro
ATTACH;FMTTYPE=image/jpeg:https://blx.cm-lisboa.pt/wp-content/uploads/2026/01/TrocaLetras-2026-site.jpg
END:VEVENT
END:VCALENDAR