BEGIN:VCALENDAR
VERSION:2.0
PRODID:-//Bibliotecas de Lisboa - ECPv5.3.1.1//NONSGML v1.0//EN
CALSCALE:GREGORIAN
METHOD:PUBLISH
X-WR-CALNAME:Bibliotecas de Lisboa
X-ORIGINAL-URL:https://blx.cm-lisboa.pt
X-WR-CALDESC:Events for Bibliotecas de Lisboa
BEGIN:VTIMEZONE
TZID:Europe/Lisbon
BEGIN:DAYLIGHT
TZOFFSETFROM:+0000
TZOFFSETTO:+0100
TZNAME:WEST
DTSTART:20260329T010000
END:DAYLIGHT
BEGIN:STANDARD
TZOFFSETFROM:+0100
TZOFFSETTO:+0000
TZNAME:WET
DTSTART:20261025T010000
END:STANDARD
END:VTIMEZONE
BEGIN:VEVENT
DTSTART;TZID=Europe/Lisbon:20260506T160000
DTEND;TZID=Europe/Lisbon:20260527T190000
DTSTAMP:20260424T121940
CREATED:20260423T182355Z
LAST-MODIFIED:20260423T182440Z
UID:42882-1778083200-1779908400@blx.cm-lisboa.pt
SUMMARY:Um abraço como forma de resistência
DESCRIPTION:Laboratório semanal de pesquisa teatral sobre os gestos que amplificam a capacidade de ver\, ouvir e sentir\, com práticas focadas na expressão corporal\, no desenvolvimento da escuta\, na relação entre corpo e espaço\, entre a respiração e a palavra\, entre a palavra e a emoção. \nA atriz e encenadora Carla Bolito e o professor Fernando Crespo irão aliar expressões do teatro e da dança\, através de exercícios individuais e de grupo\, para desenvolver a criatividade e a teatralidade da cena. \nNo final de maio\, o resultado da experiência construída por todos os participantes será partilhado numa apresentação pública. \n  \n\nDinamizado por: Companhia Maior\nPara maiores de 16 anos\nEntrada livre e sujeita a marcação prévia\nContacto para marcação: umteatroemcadabairro.cjardimestrela@cm-lisboa.pt\n\n  \nDatas | Horário: \n\n6\, 13\, 20 e 27 maio\nquartas\n16h00 às 19h00\n\n  \nAs sessões terão lugar na Casa do Jardim da Estrela. \n  \nNo decorrer desta atividade\, são captadas imagens e som para divulgação pela CML\, entidade parceira ou promotora\, nos respetivos meios de comunicação\, como redes sociais e sites institucionais. Uma vez disponibilizados online\, os dados pessoais são suscetíveis de serem reutilizados e difundidos por terceiros.
URL:https://blx.cm-lisboa.pt/evento/um-abraco-como-forma-de-resistencia-3/
LOCATION:Casa do Jardim da Estrela
CATEGORIES:Casa do Jardim da Estrela
END:VEVENT
END:VCALENDAR