BEGIN:VCALENDAR
VERSION:2.0
PRODID:-//Bibliotecas de Lisboa - ECPv5.3.1.1//NONSGML v1.0//EN
CALSCALE:GREGORIAN
METHOD:PUBLISH
X-WR-CALNAME:Bibliotecas de Lisboa
X-ORIGINAL-URL:https://blx.cm-lisboa.pt
X-WR-CALDESC:Events for Bibliotecas de Lisboa
BEGIN:VTIMEZONE
TZID:Europe/Lisbon
BEGIN:DAYLIGHT
TZOFFSETFROM:+0000
TZOFFSETTO:+0100
TZNAME:WEST
DTSTART:20250330T010000
END:DAYLIGHT
BEGIN:STANDARD
TZOFFSETFROM:+0100
TZOFFSETTO:+0000
TZNAME:WET
DTSTART:20251026T010000
END:STANDARD
END:VTIMEZONE
BEGIN:VEVENT
DTSTART;TZID=Europe/Lisbon:20250629T170000
DTEND;TZID=Europe/Lisbon:20250629T183000
DTSTAMP:20260424T201457
CREATED:20250621T175352Z
LAST-MODIFIED:20250621T175352Z
UID:37188-1751216400-1751221800@blx.cm-lisboa.pt
SUMMARY:VII Encontro de Coros
DESCRIPTION:Um concerto do Coro dos SSCML (Serviços Sociais da Câmara Municipal de Lisboa) com a participação especial de: \n\nCoro de Marvila\nCoro de Linda-a-Velha\nCoro do Banco de Portugal\nCoro do Tribunal da Relação de Lisboa\n\n  \n\nDinamizado por: Serviço de Cultura\, Desporto e Lazer dos SSCML\nSugerido para maiores 6 anos\n\n  \nDia 29 junho\, 17h00\, na Biblioteca de Marvila. \nEntrada livre. \n  \nNo decorrer desta atividade\, são captadas imagens e som para divulgação pela CML\, entidade parceira ou promotora\, nos respetivos meios de comunicação\, como redes sociais e sites institucionais.
URL:https://blx.cm-lisboa.pt/evento/vii-encontro-de-coros/
LOCATION:Biblioteca de Marvila\, Rua António Gedeão\, Lisboa\, 1950-347\, Portugal
CATEGORIES:Biblioteca Marvila
END:VEVENT
END:VCALENDAR