BEGIN:VCALENDAR
VERSION:2.0
PRODID:-//Bibliotecas de Lisboa - ECPv5.3.1.1//NONSGML v1.0//EN
CALSCALE:GREGORIAN
METHOD:PUBLISH
X-WR-CALNAME:Bibliotecas de Lisboa
X-ORIGINAL-URL:https://blx.cm-lisboa.pt
X-WR-CALDESC:Events for Bibliotecas de Lisboa
BEGIN:VTIMEZONE
TZID:Europe/Lisbon
BEGIN:DAYLIGHT
TZOFFSETFROM:+0000
TZOFFSETTO:+0100
TZNAME:WEST
DTSTART:20250330T010000
END:DAYLIGHT
BEGIN:STANDARD
TZOFFSETFROM:+0100
TZOFFSETTO:+0000
TZNAME:WET
DTSTART:20251026T010000
END:STANDARD
END:VTIMEZONE
BEGIN:VEVENT
DTSTART;TZID=Europe/Lisbon:20250927T110000
DTEND;TZID=Europe/Lisbon:20250927T123000
DTSTAMP:20260423T130157
CREATED:20250829T164045Z
LAST-MODIFIED:20251003T093814Z
UID:38220-1758970800-1758976200@blx.cm-lisboa.pt
SUMMARY:ADIADA | Vozes no Feminino
DESCRIPTION:‘Vozes no feminino‘ é um ciclo de oficinas temáticas\, sobre\, para e feito por mulheres. \nTrabalharemos a empatia\, a cooperação e empoderamento num espaço descontraído\, de debate\, reflexão e partilha de experiências\, onde todas as vozes contam.\nCom uma agenda plural\, focada no universo feminino\, utilizaremos a arte como manifestação de liberdade e bem-estar. \nA 2ª edição da ‘Vozes no Feminino’ conta com referências de autoras de banda desenhada feita por mulheres como mote para as 5 sessões desenvolvidas ao longo de um ano. \nAo longo das sessões\, alguns universos da banda desenhada serão salientados pelos seus contrastantes em termos gráficos\, políticos e temáticos. A partir de um desafio as participantes serão convidadas a explorar formas de abordagens diversas do desenho\, através da experimentação\, autorreflexão\, da liberdade do gesto\, da pesquisa empírica\, quotidiana\, do sonho tornado real. \nAs sessões serão autónomas\, no entanto encadeiam-se num projeto contínuo. \n\nTema da sessão: Reflexões diarísticas – À luz do dia (percursos do quotidiano: movimentos automáticos).\n\n  \n\nDinamização: Rosa Barreto (BLX) e Salomé Paiva (artista plástica)\nAtividade sugerida para público feminino maior de 16 anos\nMáximo: 12 participantes\nEntrada gratuita e com marcação prévia\nMarcações através do email: bib.marvila@cm-lisboa.pt\n\n  \nDia 27 setembro\, pelas 11h00\, na Biblioteca de Marvila. \n  \nCréditos do desenho: “Pormenor de Jardins e Jardineiros” de ©Giulia Cavallo. \nNo decorrer desta atividade\, são captadas imagens e som para divulgação pela CML\, entidade parceira ou promotora\, nos respetivos meios de comunicação\, como redes sociais e sites institucionais.
URL:https://blx.cm-lisboa.pt/evento/vozes-no-feminino-5/
LOCATION:Biblioteca de Marvila\, Rua António Gedeão\, Lisboa\, 1950-347\, Portugal
CATEGORIES:Biblioteca Marvila
ATTACH;FMTTYPE=image/jpeg:https://blx.cm-lisboa.pt/wp-content/uploads/2023/11/vozes-no-feminino_18NOV_site.jpg
END:VEVENT
END:VCALENDAR