BEGIN:VCALENDAR
VERSION:2.0
PRODID:-//Bibliotecas de Lisboa - ECPv5.3.1.1//NONSGML v1.0//EN
CALSCALE:GREGORIAN
METHOD:PUBLISH
X-WR-CALNAME:Bibliotecas de Lisboa
X-ORIGINAL-URL:https://blx.cm-lisboa.pt
X-WR-CALDESC:Events for Bibliotecas de Lisboa
BEGIN:VTIMEZONE
TZID:Europe/Lisbon
BEGIN:DAYLIGHT
TZOFFSETFROM:+0000
TZOFFSETTO:+0100
TZNAME:WEST
DTSTART:20250330T010000
END:DAYLIGHT
BEGIN:STANDARD
TZOFFSETFROM:+0100
TZOFFSETTO:+0000
TZNAME:WET
DTSTART:20251026T010000
END:STANDARD
END:VTIMEZONE
BEGIN:VEVENT
DTSTART;TZID=Europe/Lisbon:20250902T100000
DTEND;TZID=Europe/Lisbon:20250930T180000
DTSTAMP:20260420T040015
CREATED:20250808T105526Z
LAST-MODIFIED:20250808T105526Z
UID:37872-1756807200-1759255200@blx.cm-lisboa.pt
SUMMARY:YA - Young Adult
DESCRIPTION:Aproveitando a divulgação crescente de livros no Instagram\, Youtube e TikTok pelos booktokers e booktubers\, a Biblioteca de Belém destaca livros que estão a ser divulgados pelas redes sociais e que são fenómenos de leitura e vendas. \n  \n\nDinamizado por: Anabela Marques\nSugerido para público juvenil e adulto\n\n  \nPatente\, no horário de funcionamento\, 2 a 30 setembro\, na Biblioteca de Belém. \nEntrada livre. \n  \nCréditos da imagem: © Freepik \nNo decorrer desta atividade\, são captadas imagens e som para divulgação pela CML\, entidade parceira ou promotora\, nos respetivos meios de comunicação\, como redes sociais e sites institucionais.
URL:https://blx.cm-lisboa.pt/evento/ya-young-adult/
LOCATION:Biblioteca de Belém\, Rua da Junqueira\, 295/7\, Lisboa\, 1300 - 338\, Portugal
CATEGORIES:Biblioteca Belém
ATTACH;FMTTYPE=image/jpeg:https://blx.cm-lisboa.pt/wp-content/uploads/2025/08/DestaqueColecao_YoungAdult_site.jpg
END:VEVENT
END:VCALENDAR